BEGIN:VCALENDAR
VERSION:2.0
PRODID:spatie/icalendar-generator
DESCRIPTION:Events from Mikkelin Musiikkiopisto
X-WR-CALDESC:Events from Mikkelin Musiikkiopisto
REFRESH-INTERVAL;VALUE=DURATION:PT1440M
X-PUBLISHED-TTL:PT1440M
BEGIN:VTIMEZONE
TZID:Etc/GMT-2
BEGIN:STANDARD
DTSTART:20250804T150000Z
TZOFFSETFROM:+0200
TZOFFSETTO:+0200
END:STANDARD
END:VTIMEZONE
BEGIN:VTIMEZONE
TZID:UTC
BEGIN:STANDARD
DTSTART:20250728T022326Z
TZOFFSETFROM:+0000
TZOFFSETTO:+0000
END:STANDARD
END:VTIMEZONE
BEGIN:VEVENT
UID:120-113
DTSTAMP:20260424T022326Z
SUMMARY:Wapputööttää\, musiikkiopiston sali
LOCATION:Mikkelin musiikkiopisto Maaherrankatu 10  Mikkeli Etelä-Savo 5010
 0
ORGANIZER;CN=Tarja Lyytikäinen:MAILTO:tarja.lyytikainen@mlimo.fi
DTSTART;TZID=Etc/GMT-2:20260501T150000
DTEND;TZID=Etc/GMT-2:20260501T160000
X-ALT-DESC;FMTTYPE=TEXT/HTML:Wapputööttää perjantaina 1.5.2026 klo15 mu
 siikkiopiston salissa Esiintymässä Abc winds\, Juniori winds\, Mikkeli w
 inds\, Wind Jazz Orchestra sekä vaskiyhtyeitä. Liput 10€ (lapset 5€\
 , koko perhe 20€)\, sis.siman ja munkin.
CATEGORIES:Konsertit
URL;VALUE=URI:https://mlimo.fi/mc-events/wapputoottaa-musiikkiopiston-sali/
METHOD:PUBLISH
END:VEVENT
END:VCALENDAR