BEGIN:VCALENDAR
VERSION:2.0
PRODID:spatie/icalendar-generator
DESCRIPTION:Events from Mikkelin Musiikkiopisto
X-WR-CALDESC:Events from Mikkelin Musiikkiopisto
REFRESH-INTERVAL;VALUE=DURATION:PT1440M
X-PUBLISHED-TTL:PT1440M
BEGIN:VTIMEZONE
TZID:Etc/GMT-2
BEGIN:STANDARD
DTSTART:20250726T180000Z
TZOFFSETFROM:+0200
TZOFFSETTO:+0200
END:STANDARD
END:VTIMEZONE
BEGIN:VTIMEZONE
TZID:UTC
BEGIN:STANDARD
DTSTART:20250725T050906Z
TZOFFSETFROM:+0000
TZOFFSETTO:+0000
END:STANDARD
END:VTIMEZONE
BEGIN:VEVENT
UID:186-153
DTSTAMP:20260421T050906Z
SUMMARY:Rytmimusiikkiviikko: Winds Jazz Orchestra\, musiikkiopiston sali
LOCATION:Mikkelin musiikkiopisto Maaherrankatu 10  Mikkeli Etelä-Savo 5010
 0
ORGANIZER;CN=Tarja Lyytikäinen:MAILTO:tarja.lyytikainen@mlimo.fi
DTSTART;TZID=Etc/GMT-2:20260422T180000
DTEND;TZID=Etc/GMT-2:20260422T183000
X-ALT-DESC;FMTTYPE=TEXT/HTML:klo 18.00 Winds Jazz Orchestra.  Vapaa pääs
 y. &amp;nbsp\;
CATEGORIES:Konsertit
URL;VALUE=URI:https://mlimo.fi/mc-events/rytmimusiikkiviikko-winds-jazz-orc
 hestra-musiikkiopiston-sali/
METHOD:PUBLISH
END:VEVENT
END:VCALENDAR